BEGIN:VCALENDAR
VERSION:2.0
PRODID:-//Armenian Arts - ECPv6.15.20//NONSGML v1.0//EN
CALSCALE:GREGORIAN
METHOD:PUBLISH
X-ORIGINAL-URL:https://armenianarts.com
X-WR-CALDESC:Events for Armenian Arts
REFRESH-INTERVAL;VALUE=DURATION:PT1H
X-Robots-Tag:noindex
X-PUBLISHED-TTL:PT1H
BEGIN:VTIMEZONE
TZID:America/Los_Angeles
BEGIN:DAYLIGHT
TZOFFSETFROM:-0800
TZOFFSETTO:-0700
TZNAME:PDT
DTSTART:20230312T100000
END:DAYLIGHT
BEGIN:STANDARD
TZOFFSETFROM:-0700
TZOFFSETTO:-0800
TZNAME:PST
DTSTART:20231105T090000
END:STANDARD
BEGIN:DAYLIGHT
TZOFFSETFROM:-0800
TZOFFSETTO:-0700
TZNAME:PDT
DTSTART:20240310T100000
END:DAYLIGHT
BEGIN:STANDARD
TZOFFSETFROM:-0700
TZOFFSETTO:-0800
TZNAME:PST
DTSTART:20241103T090000
END:STANDARD
BEGIN:DAYLIGHT
TZOFFSETFROM:-0800
TZOFFSETTO:-0700
TZNAME:PDT
DTSTART:20250309T100000
END:DAYLIGHT
BEGIN:STANDARD
TZOFFSETFROM:-0700
TZOFFSETTO:-0800
TZNAME:PST
DTSTART:20251102T090000
END:STANDARD
BEGIN:DAYLIGHT
TZOFFSETFROM:-0800
TZOFFSETTO:-0700
TZNAME:PDT
DTSTART:20260308T100000
END:DAYLIGHT
BEGIN:STANDARD
TZOFFSETFROM:-0700
TZOFFSETTO:-0800
TZNAME:PST
DTSTART:20261101T090000
END:STANDARD
BEGIN:DAYLIGHT
TZOFFSETFROM:-0800
TZOFFSETTO:-0700
TZNAME:PDT
DTSTART:20270314T100000
END:DAYLIGHT
BEGIN:STANDARD
TZOFFSETFROM:-0700
TZOFFSETTO:-0800
TZNAME:PST
DTSTART:20271107T090000
END:STANDARD
END:VTIMEZONE
BEGIN:VEVENT
DTSTART;TZID=America/Los_Angeles:20260416T190000
DTEND;TZID=America/Los_Angeles:20260416T220000
DTSTAMP:20260422T061144
CREATED:20260310T042755Z
LAST-MODIFIED:20260310T042755Z
UID:10000583-1776366000-1776376800@armenianarts.com
SUMMARY:Gata Band Live in Concert
DESCRIPTION:After a truly memorable performance in 2024\, Gata Band returns for another exciting evening of music and energy. \nKnown for their vibrant sound and engaging stage presence\, Gata Band creates an unforgettable live experience that blends musical tradition with contemporary rhythm. Their previous concert left audiences energized and asking for more…. So this spring\, they are back by popular demand!!! \nJoin us on April 16 at 7:00 PM at AGBU Pasadena for a night filled with powerful performances\, dynamic melodies\, and the joyful atmosphere that only live music can bring. \nWhether you attended last year’s concert or are discovering Gata Band for the first time\, this promises to be an evening full of rhythm\, connection\, and celebration. \nTickets are available now on TicketMicket.com \nWe encourage you to secure your seats early and come experience another unforgettable night with Gata Band. \nDate/Time: Thursday\, April 16\, 2026 | 7:00 PM \nLocation: AGBU Vatche and Tamar Manoukian Performance Art Center  \nAddress: 2495 E Mountain St\, Pasadena\, CA 91104
URL:https://armenianarts.com/event/gata-band-live-in-concert/
LOCATION:Vatche & Tamar Manoukian Performance Art Center\, Pasadena\, California\, 2495 E. Mountain Street\, Pasadena\, CA\, 91104\, United States
CATEGORIES:Concert
ATTACH;FMTTYPE=image/jpeg:https://armenianarts.com/wp-content/uploads/2026/03/1.jpg
ORGANIZER;CN="Armenian Arts":MAILTO:info@armenianarts.com
END:VEVENT
BEGIN:VEVENT
DTSTART;TZID=America/Los_Angeles:20250418T190000
DTEND;TZID=America/Los_Angeles:20250418T210000
DTSTAMP:20260422T061144
CREATED:20250317T021202Z
LAST-MODIFIED:20250321T173930Z
UID:10000544-1745002800-1745010000@armenianarts.com
SUMMARY:Հոգու Տարերք
DESCRIPTION:Anahit Koutsouzian \nArmenian Folk & Romantic Songs  \nFriday\, April 18\, 2025 7:00 PM – 9:00 PM \nTickets: $50 \nFor tickets www.Eventbrite.com & Info – Please call 747-208-2000
URL:https://armenianarts.com/event/anahit-koutsouzian-armenian-folk-romantic-songs/
LOCATION:The Center for Armenian Arts\, Glendale\, California\, 250 N. Orange St.\, Glendale\, CA\, 91203\, United States
CATEGORIES:Concert
ATTACH;FMTTYPE=image/jpeg:https://armenianarts.com/wp-content/uploads/2025/01/Anahit-Koutsouzian.jpg
ORGANIZER;CN="Armenian Arts":MAILTO:info@armenianarts.com
END:VEVENT
BEGIN:VEVENT
DTSTART;TZID=America/Los_Angeles:20250311T200000
DTEND;TZID=America/Los_Angeles:20250311T220000
DTSTAMP:20260422T061144
CREATED:20250214T015646Z
LAST-MODIFIED:20250214T021733Z
UID:10000555-1741723200-1741730400@armenianarts.com
SUMMARY:Hyusnunts And Friends: Songs Without Words
DESCRIPTION:Hyusnunts and friends: Armen Hyusnunts (saxophones)\, Artashes Kartalyan (keyboards)\, Levon Simonyan (guitar)\, Vik Momjian (bass guitar)\, & Arman Jalalyan (drums) \nSongs without words \nTuesday\, March 11\, 2025 from 8:00 PM to 10:00 PM \nTickets: $50 \nFor tickets www.ArmenianArts.com & Info – Please call 747-208-2000
URL:https://armenianarts.com/event/hyusnunts-and-friends-songs-without-words/
LOCATION:The Center for Armenian Arts\, Glendale\, California\, 250 N. Orange St.\, Glendale\, CA\, 91203\, United States
CATEGORIES:Concert
ATTACH;FMTTYPE=image/jpeg:https://armenianarts.com/wp-content/uploads/2025/02/Hyusnunts-and-friends-1-scaled.jpg
ORGANIZER;CN="Armenian Arts":MAILTO:info@armenianarts.com
END:VEVENT
BEGIN:VEVENT
DTSTART;TZID=America/Los_Angeles:20241027T193000
DTEND;TZID=America/Los_Angeles:20241027T223000
DTSTAMP:20260422T061144
CREATED:20240925T030246Z
LAST-MODIFIED:20241025T194955Z
UID:10000531-1730057400-1730068200@armenianarts.com
SUMMARY:Vicken Tarpinian - October 27th\, 2024
DESCRIPTION:Vicken Tarpinian in LA \n50 years on Stage \nSunday\, October 27\, 2024 7:30 pm \nTickets: $75 (Tier 2 – 50 of them) // $50 (Tier 1 – 50 of them) \nFor tickets  www.ArmenianArts.com & Info call 747-208-2000
URL:https://armenianarts.com/event/vicken-tarpinian-oct-27-2024/
LOCATION:The Center for Armenian Arts\, Glendale\, California\, 250 N. Orange St.\, Glendale\, CA\, 91203\, United States
CATEGORIES:Concert
ATTACH;FMTTYPE=image/jpeg:https://armenianarts.com/wp-content/uploads/2024/09/ArmenianArts-Vicken.jpg
ORGANIZER;CN="Armenian Arts":MAILTO:info@armenianarts.com
END:VEVENT
BEGIN:VEVENT
DTSTART;TZID=America/Los_Angeles:20241026T193000
DTEND;TZID=America/Los_Angeles:20241026T223000
DTSTAMP:20260422T061144
CREATED:20240925T025029Z
LAST-MODIFIED:20241025T191817Z
UID:10000530-1729971000-1729981800@armenianarts.com
SUMMARY:Vicken Tarpinian - October 26th\, 2024
DESCRIPTION:Vicken Tarpinian in LA \n50 years on Stage \nSaturday\, October 26\, 2024 7:30 PM \nTickets: $75 (50 of them) // $50 (50 of them) \nFor tickets  www.ArmenianArts.com & Info call 747-208-2000
URL:https://armenianarts.com/event/vicken-tarpinian-oct-26-2024/
LOCATION:The Center for Armenian Arts\, Glendale\, California\, 250 N. Orange St.\, Glendale\, CA\, 91203\, United States
CATEGORIES:Concert
ATTACH;FMTTYPE=image/jpeg:https://armenianarts.com/wp-content/uploads/2024/09/LA24_Poster_Square22cm-scaled.jpg
ORGANIZER;CN="Armenian Arts":MAILTO:info@armenianarts.com
END:VEVENT
BEGIN:VEVENT
DTSTART;TZID=America/Los_Angeles:20240605T200000
DTEND;TZID=America/Los_Angeles:20240605T230000
DTSTAMP:20260422T061144
CREATED:20240417T095702Z
LAST-MODIFIED:20240419T031928Z
UID:10000010-1717617600-1717628400@armenianarts.com
SUMMARY:LAARM Quartet
DESCRIPTION:Stepan Khalatyan\, 1 violin \nArsen Ketikyan\, 2 violin \nYelena Hayrapetyan\, Viola \nMilena Mardanyan\, Cello \nTickets $50 \n250 N. Orange Street\, Glendale\, CA 91203 \nWednesday\, June 5th\, 2024  8:00 pm
URL:https://armenianarts.com/event/la-arm-quartet/
LOCATION:The Center for Armenian Arts\, Glendale\, California\, 250 N. Orange St.\, Glendale\, CA\, 91203\, United States
CATEGORIES:Concert
ATTACH;FMTTYPE=image/jpeg:https://armenianarts.com/wp-content/uploads/2024/04/LAARM_-564-copy-scaled.jpg
ORGANIZER;CN="Armenian Arts":MAILTO:info@armenianarts.com
END:VEVENT
BEGIN:VEVENT
DTSTART;TZID=America/Los_Angeles:20240420T190000
DTEND;TZID=America/Los_Angeles:20240420T220000
DTSTAMP:20260422T061144
CREATED:20240329T194907Z
LAST-MODIFIED:20240419T031947Z
UID:10000008-1713639600-1713650400@armenianarts.com
SUMMARY:Genolive The Concert
DESCRIPTION:Celebrating Armenian Contributions to Humanity After The Genocide
URL:https://armenianarts.com/event/genolive-the-concert/
LOCATION:The Center for Armenian Arts\, Glendale\, California\, 250 N. Orange St.\, Glendale\, CA\, 91203\, United States
CATEGORIES:Concert
ATTACH;FMTTYPE=image/jpeg:https://armenianarts.com/wp-content/uploads/2024/03/Genolive-.jpg
ORGANIZER;CN="Armenian Arts":MAILTO:info@armenianarts.com
END:VEVENT
END:VCALENDAR