BEGIN:VCALENDAR
VERSION:2.0
PRODID:-//Armenian Arts - ECPv6.15.20//NONSGML v1.0//EN
CALSCALE:GREGORIAN
METHOD:PUBLISH
X-ORIGINAL-URL:https://armenianarts.com
X-WR-CALDESC:Events for Armenian Arts
REFRESH-INTERVAL;VALUE=DURATION:PT1H
X-Robots-Tag:noindex
X-PUBLISHED-TTL:PT1H
BEGIN:VTIMEZONE
TZID:America/Los_Angeles
BEGIN:DAYLIGHT
TZOFFSETFROM:-0800
TZOFFSETTO:-0700
TZNAME:PDT
DTSTART:20250309T100000
END:DAYLIGHT
BEGIN:STANDARD
TZOFFSETFROM:-0700
TZOFFSETTO:-0800
TZNAME:PST
DTSTART:20251102T090000
END:STANDARD
BEGIN:DAYLIGHT
TZOFFSETFROM:-0800
TZOFFSETTO:-0700
TZNAME:PDT
DTSTART:20260308T100000
END:DAYLIGHT
BEGIN:STANDARD
TZOFFSETFROM:-0700
TZOFFSETTO:-0800
TZNAME:PST
DTSTART:20261101T090000
END:STANDARD
BEGIN:DAYLIGHT
TZOFFSETFROM:-0800
TZOFFSETTO:-0700
TZNAME:PDT
DTSTART:20270314T100000
END:DAYLIGHT
BEGIN:STANDARD
TZOFFSETFROM:-0700
TZOFFSETTO:-0800
TZNAME:PST
DTSTART:20271107T090000
END:STANDARD
END:VTIMEZONE
BEGIN:VEVENT
DTSTART;TZID=America/Los_Angeles:20260224T190000
DTEND;TZID=America/Los_Angeles:20260224T220000
DTSTAMP:20260419T134709
CREATED:20260204T013914Z
LAST-MODIFIED:20260204T013914Z
UID:10000576-1771959600-1771970400@armenianarts.com
SUMMARY:“Lullabies” Lecture Performance & Conversation with Hasmik Harutyunyan
DESCRIPTION:Parents with children are especially welcome.\n\n \n\nLullabies\, a bilingual collection of traditional Armenian lullabies\, is a gathering of valuable songs from different regions of historical Armenia\, drawn from the repertoire of Honored Artist of the Republic of Armenia\, Hasmik Harutyunyan.\n\n \n\nThe author has collected\, classified\, and annotated about 57 lullaby songs from printed and unprinted sources. The collection includes a list of sources\, a dictionary of dialect and foreign words\, and an accompanying CD featuring the first performances of numerous lullabies.\n\n \n\nThis project preserves a delicate and deeply emotional part of Armenian musical heritage — songs once sung by mothers and grandmothers\, carrying comfort\, love\, and memory across generations.\n\n \n\nThe event is intended for those interested in the traditional Armenian lullaby genre and for the music-loving public. Families are warmly invited\, and parents with kids are especially welcome to experience these gentle melodies together in a cozy\, nurturing atmosphere.\n\n \n\nTuesday\, February 24\, 2026 at 7:00 PM
URL:https://armenianarts.com/event/lullabies-lecture-performance-conversation-with-hasmik-harutyunyan/
LOCATION:The Center for Armenian Arts\, Glendale\, California\, 250 N. Orange St.\, Glendale\, CA\, 91203\, United States
CATEGORIES:Book Presentation
ATTACH;FMTTYPE=image/jpeg:https://armenianarts.com/wp-content/uploads/2026/02/1-3.jpg
ORGANIZER;CN="Armenian Arts":MAILTO:info@armenianarts.com
END:VEVENT
END:VCALENDAR