BEGIN:VCALENDAR
VERSION:2.0
PRODID:-//Armenian Arts - ECPv6.15.20//NONSGML v1.0//EN
CALSCALE:GREGORIAN
METHOD:PUBLISH
X-ORIGINAL-URL:https://armenianarts.com
X-WR-CALDESC:Events for Armenian Arts
REFRESH-INTERVAL;VALUE=DURATION:PT1H
X-Robots-Tag:noindex
X-PUBLISHED-TTL:PT1H
BEGIN:VTIMEZONE
TZID:America/Los_Angeles
BEGIN:DAYLIGHT
TZOFFSETFROM:-0800
TZOFFSETTO:-0700
TZNAME:PDT
DTSTART:20250309T100000
END:DAYLIGHT
BEGIN:STANDARD
TZOFFSETFROM:-0700
TZOFFSETTO:-0800
TZNAME:PST
DTSTART:20251102T090000
END:STANDARD
BEGIN:DAYLIGHT
TZOFFSETFROM:-0800
TZOFFSETTO:-0700
TZNAME:PDT
DTSTART:20260308T100000
END:DAYLIGHT
BEGIN:STANDARD
TZOFFSETFROM:-0700
TZOFFSETTO:-0800
TZNAME:PST
DTSTART:20261101T090000
END:STANDARD
BEGIN:DAYLIGHT
TZOFFSETFROM:-0800
TZOFFSETTO:-0700
TZNAME:PDT
DTSTART:20270314T100000
END:DAYLIGHT
BEGIN:STANDARD
TZOFFSETFROM:-0700
TZOFFSETTO:-0800
TZNAME:PST
DTSTART:20271107T090000
END:STANDARD
END:VTIMEZONE
BEGIN:VEVENT
DTSTART;TZID=America/Los_Angeles:20260213T190000
DTEND;TZID=America/Los_Angeles:20260214T180000
DTSTAMP:20260419T101649
CREATED:20260129T190402Z
LAST-MODIFIED:20260129T190402Z
UID:10000572-1771009200-1771092000@armenianarts.com
SUMMARY:COLORS OF YEREVAN: See Yerevan Through an Karishok’s Heart
DESCRIPTION:COLORS OF YEREVAN is a vibrant and poetic solo exhibition by contemporary Armenian artist Karishok (Karine) Dulyan\, celebrating the emotional rhythm\, architectural spirit\, and everyday poetry of Armenia’s capital. \nBorn and raised in Yerevan\, Dulyan began painting at the age of four and held her first solo exhibition at just five years old. She later pursued a career in architecture and urban design\, earning Master’s degrees in Arts & New Technologiesand Urbanism in Spain\, before returning fully to painting—bringing with her a deep understanding of space\, structure\, light\, and city life. \nHer work is widely recognized for its expressive cityscapes\, abstract urban impressions\, and luminous color palette. Moving fluidly between watercolor\, acrylic\, ink\, mixed media\, and collage\, Dulyan captures the beauty of everyday moments\, the energy of streets\, and the quiet emotional character of cities. Her paintings often reinterpret Yerevan’s architectural “chaos” as unexpected harmony\, revealing charm\, warmth\, and hidden beauty where others may overlook it. \nCOLORS OF YEREVAN presents a visual love letter to the city—its light\, movement\, memory\, and soul. Each artwork invites viewers to pause\, reflect\, and rediscover Yerevan through a lens of color\, optimism\, nostalgia\, and urban poetry. \nOpening Night: Friday\, February 13\, 2026 | 7 PM – 10 PM\nExhibition Continues: Saturday\, February 14\, 2026 | 3 PM – 6 PM
URL:https://armenianarts.com/event/colors-of-yerevan-see-yerevan-through-an-karishoks-heart/
LOCATION:The Center for Armenian Arts\, Glendale\, California\, 250 N. Orange St.\, Glendale\, CA\, 91203\, United States
CATEGORIES:Art Exhibition Event
ATTACH;FMTTYPE=image/jpeg:https://armenianarts.com/wp-content/uploads/2026/01/5.jpg
ORGANIZER;CN="Armenian Arts":MAILTO:info@armenianarts.com
END:VEVENT
END:VCALENDAR